BEGIN:VCALENDAR
VERSION:2.0
PRODID:-//Tukios.com/
BEGIN:VEVENT
UID:4e8a22fe-510f-4865-848d-8a02a654fe8c@www.moorefuneral.com
DTSTAMP:20260421T180149Z
DTSTART:20260422T220000Z
DTEND:20260423T010000Z
SUMMARY:Visitation for Barbara Sue Crow
DESCRIPTION:
URL:https://www.moorefuneral.com/obituaries/barbara-crow
LOCATION:Moore's Southlawn 9350 East 51st Street  Tulsa OK 74145
GEO:36.0891945;-95.8727306
END:VEVENT
END:VCALENDAR