BEGIN:VCALENDAR
VERSION:2.0
PRODID:-//Tukios.com/
BEGIN:VEVENT
UID:366db398-3e7a-4ee6-b146-fc7bb35c26b3@www.moorefuneral.com
DTSTAMP:20260421T180113Z
DTSTART:20260423T150000Z
DTEND:20260423T160000Z
SUMMARY:Funeral for Barbara Sue Crow
DESCRIPTION:
URL:https://www.moorefuneral.com/obituaries/barbara-crow
LOCATION:Moore's Southlawn 9350 East 51st Street  Tulsa OK 74145
GEO:36.0891945;-95.8727306
END:VEVENT
END:VCALENDAR