BEGIN:VCALENDAR
VERSION:2.0
PRODID:-//Tukios.com/
BEGIN:VEVENT
UID:dc1b501c-0fd9-411e-9741-d2e2b637e183@www.moorefuneral.com
DTSTAMP:20260421T180449Z
DTSTART:20260423T160000Z
DTEND:20260423T170000Z
SUMMARY:Graveside for Barbara Sue Crow
DESCRIPTION:
URL:https://www.moorefuneral.com/obituaries/barbara-crow
LOCATION:Memorial Park Cemetery 5111 S Memorial Drive  Tulsa OK 74145
GEO:36.085252;-95.878916
END:VEVENT
END:VCALENDAR