BEGIN:VCALENDAR
VERSION:2.0
PRODID:-//Tukios.com/
BEGIN:VEVENT
UID:a07d445c-7aa5-4eec-a855-3bd5ceeefe90@www.moorefuneral.com
DTSTAMP:20260422T020414Z
DTSTART:20260427T180000Z
DTEND:20260427T190000Z
SUMMARY:Funeral for Barbara Dean Blair
DESCRIPTION:
URL:https://www.moorefuneral.com/obituaries/barbara-dean-blair
LOCATION:Moore's Southlawn 9350 East 51st Street  Tulsa OK 74145
GEO:36.0891945;-95.8727306
END:VEVENT
END:VCALENDAR