BEGIN:VCALENDAR
VERSION:2.0
PRODID:-//Tukios.com/
BEGIN:VEVENT
UID:5a70afd3-2a81-43ea-a59e-f11eaa01f4c2@www.moorefuneral.com
DTSTAMP:20260422T020434Z
DTSTART:20260427
SUMMARY:Interment for Barbara Dean Blair
DESCRIPTION:
URL:https://www.moorefuneral.com/obituaries/barbara-dean-blair
LOCATION:Woodland Memorial Park Cemetery 1200 North Cleveland Avenue  
	Sand Springs OK 74063
GEO:36.1531662;-96.1128299
END:VEVENT
END:VCALENDAR