BEGIN:VCALENDAR
VERSION:2.0
PRODID:-//Tukios.com/
BEGIN:VEVENT
UID:8fc0290a-1c5a-48d2-b157-84a089e3ceb0@www.moorefuneral.com
DTSTAMP:20260422T020418Z
DTSTART:20260426T190000Z
DTEND:20260426T210000Z
SUMMARY:Visitation for Barbara Dean Blair
DESCRIPTION:
URL:https://www.moorefuneral.com/obituaries/barbara-dean-blair
LOCATION:Moore's Southlawn 9350 East 51st Street  Tulsa OK 74145
GEO:36.0891945;-95.8727306
END:VEVENT
END:VCALENDAR