BEGIN:VCALENDAR
VERSION:2.0
PRODID:-//Tukios.com/
BEGIN:VEVENT
UID:51545cf3-b09e-4fea-9793-86b6b9d2d6a1@www.moorefuneral.com
DTSTAMP:20260423T233506Z
DTSTART:20260530T183000Z
DTEND:20260530T193000Z
SUMMARY:Celebration Of Life for Betty Lorraine Robinson
DESCRIPTION:
URL:https://www.moorefuneral.com/obituaries/betty-lorraine-robinson
LOCATION:Harvard Avenue Christian Church 5502 South Harvard Avenue  Tulsa 
	OK 74135
GEO:36.0844838;-95.9408911
END:VEVENT
END:VCALENDAR