BEGIN:VCALENDAR
VERSION:2.0
PRODID:-//Tukios.com/
BEGIN:VEVENT
UID:bc7c46b3-5588-4c59-a102-cfdbeb9f0bd7@www.moorefuneral.com
DTSTAMP:20260421T202656Z
DTSTART:20260426T200000Z
DTEND:20260426T220000Z
SUMMARY:Visitation for Charles William Webster
DESCRIPTION:
URL:https://www.moorefuneral.com/obituaries/charles-webster
LOCATION:SpiritLife Church 5345 South Peoria Avenue  Tulsa OK 74105
GEO:36.0847279;-95.9751614
END:VEVENT
END:VCALENDAR