BEGIN:VCALENDAR
VERSION:2.0
PRODID:-//Tukios.com/
BEGIN:VEVENT
UID:ba06bbf7-a1d9-4c58-aaf9-4ecabc8e78fe@www.moorefuneral.com
DTSTAMP:20260421T202019Z
DTSTART:20260427T190000Z
DTEND:20260427T200000Z
SUMMARY:Celebration Of Life for Charles William Webster
DESCRIPTION:
URL:https://www.moorefuneral.com/obituaries/charles-webster
LOCATION:SpiritLife Church 5345 South Peoria Avenue  Tulsa OK 74105
GEO:36.0847279;-95.9751614
END:VEVENT
END:VCALENDAR