BEGIN:VCALENDAR
VERSION:2.0
PRODID:-//Tukios.com/
BEGIN:VEVENT
UID:90679a2e-bbb4-471a-be74-937e6653ac67@www.moorefuneral.com
DTSTAMP:20260422T020414Z
DTSTART:20260424T190000Z
DTEND:20260424T200000Z
SUMMARY:Graveside for John Robert Goumaz
DESCRIPTION:
URL:https://www.moorefuneral.com/obituaries/john-goumaz
LOCATION:Memorial Park Cemetery Chapel 5111 S Memorial Drive  Tulsa OK 
	74145
GEO:36.085252;-95.878916
END:VEVENT
END:VCALENDAR