BEGIN:VCALENDAR
VERSION:2.0
PRODID:-//Tukios.com/
BEGIN:VEVENT
UID:649b8982-0c4f-4e58-8a9e-deaa6ce38692@www.moorefuneral.com
DTSTAMP:20260423T035610Z
DTSTART:20260502T180000Z
DTEND:20260502T190000Z
SUMMARY:Celebration Of Life for Lois Penny Cowan
DESCRIPTION:
URL:https://www.moorefuneral.com/obituaries/lois-cowan
LOCATION:Moore's Southlawn 9350 East 51st Street  Tulsa OK 74145
GEO:36.0891945;-95.8727306
END:VEVENT
END:VCALENDAR