BEGIN:VCALENDAR
VERSION:2.0
PRODID:-//Tukios.com/
BEGIN:VEVENT
UID:e87303f2-50f8-45f6-b060-1f3f6a3fd16a@www.moorefuneral.com
DTSTAMP:20260422T220944Z
DTSTART:20260501T193000Z
DTEND:20260501T203000Z
SUMMARY:Graveside for Mariellen Collins
DESCRIPTION:
URL:https://www.moorefuneral.com/obituaries/mariellen-collins
LOCATION:Fort Gibson National Cemetery 1423 Cemetery Road  Fort Gibson OK 
	74434
GEO:35.8034718;-95.2274628
END:VEVENT
END:VCALENDAR