BEGIN:VCALENDAR
VERSION:2.0
PRODID:-//Tukios.com/
BEGIN:VEVENT
UID:b0ac5187-0ccb-41bf-82ff-5c49ef8fa1a2@www.moorefuneral.com
DTSTAMP:20260423T232955Z
DTSTART:20260426T200000Z
DTEND:20260426T210000Z
SUMMARY:Celebration Of Life for Michael James Kochevar
DESCRIPTION:
URL:https://www.moorefuneral.com/obituaries/michael-kochevar
LOCATION:Moore's Southlawn Chapel 9350 East 51st Street  Tulsa OK 74145
GEO:36.0891945;-95.8727306
END:VEVENT
END:VCALENDAR