BEGIN:VCALENDAR
VERSION:2.0
PRODID:-//Tukios.com/
BEGIN:VEVENT
UID:f6f36179-dd84-4f3a-98e2-d3bd1ebb46c9@www.moorefuneral.com
DTSTAMP:20260424T002550Z
DTSTART:20260428T160000Z
DTEND:20260428T170000Z
SUMMARY:Funeral for Richard Lee Eddy
DESCRIPTION:
URL:https://www.moorefuneral.com/obituaries/richard-eddy
LOCATION:Moore's Southlawn 9350 East 51st Street  Tulsa OK 74145
GEO:36.0891945;-95.8727306
END:VEVENT
END:VCALENDAR