BEGIN:VCALENDAR
VERSION:2.0
PRODID:-//Tukios.com/
BEGIN:VEVENT
UID:57622ccc-2b00-42a3-aec6-9c317eeb1c55@www.moorefuneral.com
DTSTAMP:20260424T003244Z
DTSTART:20260428T193000Z
DTEND:20260428T203000Z
SUMMARY:Interment for Richard Lee Eddy
DESCRIPTION:
URL:https://www.moorefuneral.com/obituaries/richard-eddy
LOCATION:Fort Gibson National Cemetery 1423 Cemetery Road  Fort Gibson OK 
	74434
GEO:35.8034718;-95.2274628
END:VEVENT
END:VCALENDAR