BEGIN:VCALENDAR
VERSION:2.0
PRODID:-//Tukios.com/
BEGIN:VEVENT
UID:2dd35ef9-8f0c-4a84-bfb3-bf6b2dff7e06@www.moorefuneral.com
DTSTAMP:20260424T192843Z
DTSTART:20260427T150000Z
DTEND:20260427T160000Z
SUMMARY:Memorial for Robert Ray Sanborn
DESCRIPTION:
URL:https://www.moorefuneral.com/obituaries/robert-sanborn
LOCATION:Moore's Southlawn 9350 East 51st Street  Tulsa OK 74145
GEO:36.0891945;-95.8727306
END:VEVENT
END:VCALENDAR