BEGIN:VCALENDAR
VERSION:2.0
PRODID:-//Tukios.com/
BEGIN:VEVENT
UID:a52e3a5d-d9be-4850-975a-a030e7b85466@www.moorefuneral.com
DTSTAMP:20260424T203539Z
DTSTART:20260429T170000Z
DTEND:20260430T010000Z
SUMMARY:Viewing for Virginia Lee Rawlings
DESCRIPTION:
URL:https://www.moorefuneral.com/obituaries/virginia-rawlings
LOCATION:Moore's Southlawn 9350 East 51st Street  Tulsa OK 74145
GEO:36.0891945;-95.8727306
END:VEVENT
END:VCALENDAR