BEGIN:VCALENDAR
VERSION:2.0
PRODID:-//Tukios.com/
BEGIN:VEVENT
UID:b70fd358-4e2a-446b-831b-b514a35ab2a1@www.moorefuneral.com
DTSTAMP:20260424T203904Z
DTSTART:20260430T150000Z
DTEND:20260430T160000Z
SUMMARY:Funeral for Virginia Lee Rawlings
DESCRIPTION:
URL:https://www.moorefuneral.com/obituaries/virginia-rawlings
LOCATION:Memorial Park Cemetery Chapel 5111 S Memorial Drive  Tulsa OK 
	74145
GEO:36.085252;-95.878916
END:VEVENT
END:VCALENDAR