BEGIN:VCALENDAR
VERSION:2.0
PRODID:-//Tukios.com/
BEGIN:VEVENT
UID:2a2d0a6a-bf9a-4cf9-842c-85d687c15a8b@www.moorefuneral.com
DTSTAMP:20260420T234924Z
DTSTART:20260511T170000Z
DTEND:20260511T180000Z
SUMMARY:Graveside for Wang Chue Gniaying Suong Kong
DESCRIPTION:
URL:https://www.moorefuneral.com/obituaries/wang-suong-kong
LOCATION:Memorial Park Cemetery 5111 S Memorial Drive  Tulsa OK 74145
GEO:36.085252;-95.878916
END:VEVENT
END:VCALENDAR