BEGIN:VCALENDAR
VERSION:2.0
PRODID:-//Tukios.com/
BEGIN:VEVENT
UID:7604c37f-1184-45b2-9bb7-e66436113813@www.moorefuneral.com
DTSTAMP:20260420T234924Z
DTSTART:20260509T130000Z
DTEND:20260510T030000Z
SUMMARY:Prayer Service for Wang Chue Gniaying Suong Kong
DESCRIPTION:
URL:https://www.moorefuneral.com/obituaries/wang-suong-kong
LOCATION:Moore's Southlawn Chapel 9350 East 51st Street  Tulsa OK 74145
GEO:36.0891945;-95.8727306
END:VEVENT
END:VCALENDAR